BEGIN:VCALENDAR
VERSION:2.0
PRODID:-//hacksw/handcal//NONSGML v1.0//EN
BEGIN:VEVENT
SUMMARY:ROSPEZ - CHAMPIONNATS 22 OPEN23 et ACCESS1234
UID:1ed7a82f-4005-4d87-8687-da0e159cbbaa
DTSTART:20260507T220000Z
DTEND:20260508T220000Z
LOCATION:Localisation   
CATEGORIES:Sportif
STATUS:
DESCRIPTION:<p>5 epreuves au programme : <a
 href="https://tcgr.fr/en-savoir-plus/rospez-bretagne-masters-163940"
 target="_blank" rel="noreferrer noopener">ROSPEZ</a></p>
URL;VALUE=URI:https://www.tcgr.fr/evenements/2026/05/08/rospez-championnats-22-open23-et-access1234-2309801
END:VEVENT
END:VCALENDAR
